BEGIN:VCALENDAR
VERSION:2.0
PRODID:-//Walton Primary Academy - ECPv5.1.4//NONSGML v1.0//EN
CALSCALE:GREGORIAN
METHOD:PUBLISH
X-WR-CALNAME:Walton Primary Academy
X-ORIGINAL-URL:https://waltonprimary.org
X-WR-CALDESC:Events for Walton Primary Academy
BEGIN:VTIMEZONE
TZID:Europe/London
BEGIN:DAYLIGHT
TZOFFSETFROM:+0000
TZOFFSETTO:+0100
TZNAME:BST
DTSTART:20250330T010000
END:DAYLIGHT
BEGIN:STANDARD
TZOFFSETFROM:+0100
TZOFFSETTO:+0000
TZNAME:GMT
DTSTART:20251026T010000
END:STANDARD
END:VTIMEZONE
BEGIN:VEVENT
DTSTART;VALUE=DATE:20250721
DTEND;VALUE=DATE:20250723
DTSTAMP:20260416T152558
CREATED:20240111T152503Z
LAST-MODIFIED:20240111T152503Z
UID:2920-1753056000-1753228799@waltonprimary.org
SUMMARY:INSET
DESCRIPTION:
URL:https://waltonprimary.org/event/inset-6/
END:VEVENT
END:VCALENDAR