BEGIN:VCALENDAR
VERSION:2.0
PRODID:-//Walton Primary Academy - ECPv5.1.4//NONSGML v1.0//EN
CALSCALE:GREGORIAN
METHOD:PUBLISH
X-WR-CALNAME:Walton Primary Academy
X-ORIGINAL-URL:https://waltonprimary.org
X-WR-CALDESC:Events for Walton Primary Academy
BEGIN:VTIMEZONE
TZID:Europe/London
BEGIN:DAYLIGHT
TZOFFSETFROM:+0000
TZOFFSETTO:+0100
TZNAME:BST
DTSTART:20240331T010000
END:DAYLIGHT
BEGIN:STANDARD
TZOFFSETFROM:+0100
TZOFFSETTO:+0000
TZNAME:GMT
DTSTART:20241027T010000
END:STANDARD
END:VTIMEZONE
BEGIN:VEVENT
DTSTART;VALUE=DATE:20240323
DTEND;VALUE=DATE:20240408
DTSTAMP:20260416T071053
CREATED:20230210T133251Z
LAST-MODIFIED:20230210T133251Z
UID:2588-1711152000-1712534399@waltonprimary.org
SUMMARY:School closes for Easter
DESCRIPTION:
URL:https://waltonprimary.org/event/school-closes-for-easter/
END:VEVENT
END:VCALENDAR