BEGIN:VCALENDAR
VERSION:2.0
PRODID:-//Walton Primary Academy - ECPv5.1.4//NONSGML v1.0//EN
CALSCALE:GREGORIAN
METHOD:PUBLISH
X-WR-CALNAME:Walton Primary Academy
X-ORIGINAL-URL:https://waltonprimary.org
X-WR-CALDESC:Events for Walton Primary Academy
BEGIN:VTIMEZONE
TZID:Europe/London
BEGIN:DAYLIGHT
TZOFFSETFROM:+0000
TZOFFSETTO:+0100
TZNAME:BST
DTSTART:20230326T010000
END:DAYLIGHT
BEGIN:STANDARD
TZOFFSETFROM:+0100
TZOFFSETTO:+0000
TZNAME:GMT
DTSTART:20231029T010000
END:STANDARD
END:VTIMEZONE
BEGIN:VEVENT
DTSTART;VALUE=DATE:20230906
DTEND;VALUE=DATE:20231028
DTSTAMP:20260416T070943
CREATED:20230127T114824Z
LAST-MODIFIED:20230127T114824Z
UID:2546-1693958400-1698451199@waltonprimary.org
SUMMARY:School open
DESCRIPTION:
URL:https://waltonprimary.org/event/school-open/
END:VEVENT
END:VCALENDAR